BEGIN:VCALENDAR
VERSION:2.0
PRODID:-//Mixtape Knockoffs - ECPv6.15.20//NONSGML v1.0//EN
CALSCALE:GREGORIAN
METHOD:PUBLISH
X-ORIGINAL-URL:https://mtko.band
X-WR-CALDESC:Events for Mixtape Knockoffs
REFRESH-INTERVAL;VALUE=DURATION:PT1H
X-Robots-Tag:noindex
X-PUBLISHED-TTL:PT1H
BEGIN:VTIMEZONE
TZID:UTC
BEGIN:STANDARD
TZOFFSETFROM:+0000
TZOFFSETTO:+0000
TZNAME:UTC
DTSTART:20230101T000000
END:STANDARD
END:VTIMEZONE
BEGIN:VEVENT
DTSTART;TZID=UTC:20240720T200000
DTEND;TZID=UTC:20240720T200000
DTSTAMP:20260423T061137
CREATED:20240114T083310Z
LAST-MODIFIED:20240701T131812Z
UID:8162-1721505600-1721505600@mtko.band
SUMMARY:MTKO @ Gaines Bar
DESCRIPTION:It’s rodeo weekend in Gaines! Join us and our friends at the Gaines Bar when you come out for the 21st Annual Gaines Community Rodeo.
URL:https://mtko.band/event/072024/
LOCATION:Gaines Bar\, 114 Genesee Street\, Gaines\, MI\, 48436\, United States
CATEGORIES:Show
ATTACH;FMTTYPE=image/png:https://mtko.band/wp-content/uploads/2024/01/Gaines-Bar-sq.png
END:VEVENT
END:VCALENDAR